BEGIN:VCALENDAR
VERSION:2.0
PRODID:-//wp-events-plugin.com//7.2.3.1//EN
TZID:Europe/Helsinki
X-WR-TIMEZONE:Europe/Helsinki
BEGIN:VEVENT
UID:69@kolttasaamelaiset.fi
DTSTART;TZID=Europe/Helsinki:20230118T180000
DTEND;TZID=Europe/Helsinki:20230118T220000
DTSTAMP:20230111T085300Z
URL:https://www.kolttasaamelaiset.fi/events/kielipesasta-kouluun-hankkeen-
 vanhempien-infoilta-mista-puhumme-kun-puhumme-kielitraumasta-2/
SUMMARY:Kielipesästä kouluun -hankkeen vanhempien infoilta: Mistä puhumm
 e\, kun puhumme kielitraumasta
DESCRIPTION:Kielipesästä kouluun – kolttasaamelaisten lasten omakieline
 n koulupolku -hanke järjestää kaksi vanhempien infoiltaa kielitrauman 
 teemalla: Mistä puhumme\, kun puhumme kielitraumasta. Infoilloista ensim
 mäinen järjestetään Ivalossa Osallisuuskeskus Ainolan Olohuoneessa ke
 skiviikkona 11.1. kello 18.30 alkaen ja toinen Sevettijärvellä Kolttata
 lolla keskiviikkona 18.1. kello 18 alkaen. Kolttasaamelaisten lasten vanhe
 mmat ovat tervetulleita molempiin infoiltoihin oman valintansa mukaan asui
 npaikastaan riippumatta. Infoillat järjestetään yhteistyössä monikiel
 isyysasiantuntija Laura Arolan\, Saamelaiskäräjien kielipesäohjaaja N
 iina Aikio-Siltalan sekä Saamelaisen psykososiaalisen tuen yksikkö Uv
 jjin kanssa.\nIllan aikana keskustellaan yleisesti siitä\, mikä kielitr
 auma on ja millaisia keinoja on päästä siinä eteenpäin. Lisäksi illa
 n aikana ihmiset kertovat omia kielikertomuksiaan\, joihin usein liittyy m
 onia tunnetason seikkoja. Kielikertomuksia kuullaan niin koltansaamen\, in
 arinsaamen kuin pohjoissaamen kielten näkökulmasta.\n\nLue infoillasta t
 arkemmin täältä: Kevään 2023 vanhempien infoillat: Mistä puhumme\, 
 kun puhumme kielitraumasta\n\nIllan aikana on tarjolla pientä purtavaa\, 
 kahvia ja teetä. Tervetuloa!\n\nHuom! Turvallisen tilan ja vapaan keskus
 telun edistämiseksi tilaisuus ei ole medialle avoin.\n\nKumppanuusopetta
 jat Anna-Katariina ja Hanna-Maaria\n\n
CATEGORIES:Tapahtumat
LOCATION:Kolttatalo\, Sevettijärventie 9080\, Sevettijärvi\, 99930\, Suom
 i
GEO:69.5112406;28.597527600000035
X-APPLE-STRUCTURED-LOCATION;VALUE=URI;X-ADDRESS=Sevettijärventie 9080\, Se
 vettijärvi\, 99930\, Suomi;X-APPLE-RADIUS=100;X-TITLE=Kolttatalo:geo:69.5
 112406,28.597527600000035
END:VEVENT
BEGIN:VTIMEZONE
TZID:Europe/Helsinki
X-LIC-LOCATION:Europe/Helsinki
BEGIN:STANDARD
DTSTART:20221030T030000
TZOFFSETFROM:+0300
TZOFFSETTO:+0200
TZNAME:EET
END:STANDARD
END:VTIMEZONE
END:VCALENDAR