BEGIN:VCALENDAR
VERSION:2.0
PRODID:-//wp-events-plugin.com//7.2.3.1//EN
TZID:Europe/Helsinki
X-WR-TIMEZONE:Europe/Helsinki
BEGIN:VEVENT
UID:64@kolttasaamelaiset.fi
DTSTART;TZID=Europe/Helsinki:20211102T000000
DTEND;TZID=Europe/Helsinki:20211123T000000
DTSTAMP:20211028T152749Z
URL:https://www.kolttasaamelaiset.fi/events/kolttasaamelaiset-ja-karjalais
 et-yhteistyo-jatkuu-koulutusseminaari/
SUMMARY:Kolttasaamelaiset ja karjalaiset – yhteistyö jatkuu -koulutussem
 inaari
DESCRIPTION:Kolttasaamelaiset ja karjalaiset – yhteistyö jatkuu -koulutu
 sseminaari järjestetään Zoom-etäkokousalustalla 2.-23.11.2021 välisen
 ä aikana tiistaisin ja torstaisin klo 17.00-19.35.\n\nLinkki ilmoittautum
 islomakkeeseen: https://link.webropolsurveys.com/S/10F4FC8377D18F4B\n\nIlm
 oittaudu ensimmäiseen koulutusosioon 2.11. mennessä ja koko koulutussemi
 naariin 7.11. mennessä.\n
CATEGORIES:Tapahtumat
END:VEVENT
BEGIN:VTIMEZONE
TZID:Europe/Helsinki
X-LIC-LOCATION:Europe/Helsinki
BEGIN:STANDARD
DTSTART:20211031T030000
TZOFFSETFROM:+0300
TZOFFSETTO:+0200
TZNAME:EET
END:STANDARD
END:VTIMEZONE
END:VCALENDAR