BEGIN:VCALENDAR
VERSION:2.0
PRODID:-//wp-events-plugin.com//7.2.3.1//EN
TZID:Europe/Helsinki
X-WR-TIMEZONE:Europe/Helsinki
BEGIN:VEVENT
UID:62@kolttasaamelaiset.fi
DTSTART;TZID=Europe/Helsinki:20210526T110000
DTEND;TZID=Europe/Helsinki:20210605T170000
DTSTAMP:20210523T213436Z
URL:https://www.kolttasaamelaiset.fi/events/saa%ca%b9mi-jie%ca%b9llempalgg
 sest-kolttasaamelaiset-ja-pyhittaja-trifonin-elava-perinto-nayttely/
SUMMARY:Saaʹmi jieʹllempälggsest – kolttasaamelaiset ja Pyhittäjä Tr
 ifonin elävä perintö -näyttely
DESCRIPTION:Kolttasaamelaisen kulttuurin näyttelyssä tuodaan valokuvien\,
  käsitöiden\, esineiden\, äänien ja tekstien kautta näkyväksi koltta
 saamelaisten historiaa ja nykypäivän elämää.\n\nNäyttely on avoinna 
 26.5.-5.6.\n\nAukioloajat:\n\nma-la 11-17\nsu 12-17\n\nOsoite: Tuomikirkon
  Krypta\, Kirkkokatu 18\, 00170 Helsinki\n\nNäyttelyyn on vapaa pääsy.\
 nNäyttely on esteetön.\n\n&nbsp\;
CATEGORIES:Tapahtumat
LOCATION:Tuomiokirkon Krypta\, Kirkkokatu 18\, 00170 Helsinki\, Suomi
X-APPLE-STRUCTURED-LOCATION;VALUE=URI;X-ADDRESS=Kirkkokatu 18\, 00170 Helsi
 nki\, Suomi;X-APPLE-RADIUS=100;X-TITLE=Tuomiokirkon Krypta:geo:0,0
END:VEVENT
BEGIN:VTIMEZONE
TZID:Europe/Helsinki
X-LIC-LOCATION:Europe/Helsinki
BEGIN:DAYLIGHT
DTSTART:20210328T040000
TZOFFSETFROM:+0200
TZOFFSETTO:+0300
TZNAME:EEST
END:DAYLIGHT
END:VTIMEZONE
END:VCALENDAR