BEGIN:VCALENDAR
VERSION:2.0
PRODID:-//wp-events-plugin.com//7.2.3.1//EN
TZID:Europe/Helsinki
X-WR-TIMEZONE:Europe/Helsinki
BEGIN:VEVENT
UID:15@kolttasaamelaiset.fi
DTSTART;TZID=Europe/Helsinki:20170617T180000
DTEND;TZID=Europe/Helsinki:20170617T233000
DTSTAMP:20170614T095946Z
URL:https://www.kolttasaamelaiset.fi/events/sevefest-kolttakulttuuriviikon
 -paatosfestari/
SUMMARY:SeveFest -kolttakulttuuriviikon päätösfestari
DESCRIPTION:Kolttakulttuuriviikon päättää kahden tapahtuman SeveFest\, 
 musiikkipitoinen festivaali Sevetin Peurojen lavalla ja Peuralammen Paaril
 la. Vapaa pääsy.\n\nSEVEFEST lauantaina 17.6.17\n\nPeurojen Lava klo 18
 .00-19.30\n\nSuõmmkar\nTrygve Beddari &amp\; Anne Margaret Nilsen \n\nS
 evetin Peurojen grilli on kuumana tapahtuman ajan.\n\nPeuralammen Paari kl
 o 21 alkaen\nTrygve Beddari &amp\; Anne Margaret Nilsen\nOpen mic – ä
 äni auki\, lava on vapaa\n\nTervetuloa!
CATEGORIES:Tapahtumat
LOCATION:SeveFest\, Peurojen Lava ja Peuralammen Paari\, Sevettijärvi\, Su
 omi
X-APPLE-STRUCTURED-LOCATION;VALUE=URI;X-ADDRESS=Peurojen Lava ja Peuralamme
 n Paari\, Sevettijärvi\, Suomi;X-APPLE-RADIUS=100;X-TITLE=SeveFest:geo:0,
 0
END:VEVENT
BEGIN:VTIMEZONE
TZID:Europe/Helsinki
X-LIC-LOCATION:Europe/Helsinki
BEGIN:DAYLIGHT
DTSTART:20170326T040000
TZOFFSETFROM:+0200
TZOFFSETTO:+0300
TZNAME:EEST
END:DAYLIGHT
END:VTIMEZONE
END:VCALENDAR