BEGIN:VCALENDAR
VERSION:2.0
PRODID:-//wp-events-plugin.com//7.2.3.1//EN
TZID:Europe/Helsinki
X-WR-TIMEZONE:Europe/Helsinki
BEGIN:VEVENT
UID:57@kolttasaamelaiset.fi
DTSTART;TZID=Europe/Helsinki:20200708T180000
DTEND;TZID=Europe/Helsinki:20200708T200000
DTSTAMP:20200703T103935Z
URL:https://www.kolttasaamelaiset.fi/events/tanssia-ja-elokuvaa-iltama/
SUMMARY:Tanssia ja elokuvaa iltama
DESCRIPTION:TANSSIA JA ELOKUVAA ILTAMA\n\nKeskiviikkona 8.7.2020 klo.18.00-
 &gt\;\nSevetin Peurat ry:n tanssilava\, Sevettijärven urheilukenttä.\n\n
 Lämpimästi tervetuloa tutustumaan tanssitaiteilijoiden ja elokuvantekij
 öiden Laura Feodoroffin ja Kati Kallion sekä elokuvaohjaaja Camiel Zwart
 in kahden viikon työskentelyyn Sevettijärvellä.\n\nIltamissa esitetää
 n paitsi tekijäryhmän tanssielokuvia\, mutta elokuvia myös muilta taite
 ilijoilta\, kuten menestyselokuvat Marja Helanderin ‘Eatnanvulos Lottit
 ’ ja Thomas Freundlichin ‘Cold Storage’. Lisäksi nähdään Laura F
 eodoroffin tanssiesitys ja illan päätteeksi kuullaan Aimo Aikion ja Tero
  Harjun musiikkia. Elokuvantekijät kertovat tapahtumassa tarkemmin koltta
 saamelaisista kertovasta elokuvaprojektistaan\, jonka luomisen he kutsuvat
  kolttia mukaan.\n\nOHJELMA ALKAA 18:00\n\nLaura Feodoroffin tanssilla ja 
 jatkuu lyhytelokuvanäytöksellä sekä keskustelutilaisuudella.\n\nIllan 
 päätteeksi kuullaan Aimo Aikion ja Tero Harjun musiikkia.\n\nIltamissa t
 arjolla virvokkeita ja snäksejä.\n\nTyönimellä ‘Once Upon A Time In 
 The North’ (Kerran pohjoisessa) kulkeva tanssielokuvahanke on kolttasaam
 elaisen tanssitaiteilijan Laura Feodoroffin\, tanssitaiteilija-elokuvantek
 ijä Kati Kallion ja hollantilaisen ohjaajan Camiel Zwartin yhteinen eloku
 va\, joka sijoittuu Koillis-Lappiin. Elokuva kertoo Laura Feodoroffin matk
 asta takaisin kolttajuurilleen ja tarinoita hänen mummonsa Sinaidan eläm
 ästä. Se nostaa esiin kolttakulttuuria ja sitä uhkaavaa jäämeren rada
 n vaikutuksia alueella. Elokuva on yhdistelmä dokumentaatiota ja fiktiota
 \, ja se valmistetaan yhteistyössä kolttayhteisöjen kanssa. Käsikirjoi
 tusajan työskentely tapahtuu Sevettijärven alueella kesällä ja syksyll
 ä 2020. Työryhmä haluaa osallistaa kolttayhteisöjä elokuvan teon pros
 essiin ja ensimmäisenä tapana he järjestävät tanssityöpajan 13.-16.7
 .2020 sekä haastattelevat Lauran sukulaisia ja muita kolttia.\n\n&nbsp\;\
 n
CATEGORIES:Tapahtumat
LOCATION:Sevetin Peurat ry:n tanssilava\, Sevettijärventie\, Sevettijärvi
 \, 99930\, Suomi
X-APPLE-STRUCTURED-LOCATION;VALUE=URI;X-ADDRESS=Sevettijärventie\, Sevetti
 järvi\, 99930\, Suomi;X-APPLE-RADIUS=100;X-TITLE=Sevetin Peurat ry:n tans
 silava:geo:0,0
END:VEVENT
BEGIN:VTIMEZONE
TZID:Europe/Helsinki
X-LIC-LOCATION:Europe/Helsinki
BEGIN:DAYLIGHT
DTSTART:20200329T040000
TZOFFSETFROM:+0200
TZOFFSETTO:+0300
TZNAME:EEST
END:DAYLIGHT
END:VTIMEZONE
END:VCALENDAR