BEGIN:VCALENDAR
VERSION:2.0
PRODID:-//wp-events-plugin.com//7.2.3.1//EN
TZID:Europe/Helsinki
X-WR-TIMEZONE:Europe/Helsinki
BEGIN:VEVENT
UID:5@kolttasaamelaiset.fi
DTSTART;TZID=Europe/Helsinki;VALUE=DATE:20161224
DTEND;TZID=Europe/Helsinki;VALUE=DATE:20161227
DTSTAMP:20161205T131900Z
URL:https://www.kolttasaamelaiset.fi/se/events/talvikylan-saame-avajaisdem
 o/
SUMMARY:Talvikylän Saame avajaisdemo
DESCRIPTION:asdqwe
CATEGORIES:Tapahtumat SE
LOCATION:Kolttatalo\, Sevettijärventie 9080\, Sevettijärvi\, 99930\, Finl
 and
GEO:69.5112406;28.597527600000035
X-APPLE-STRUCTURED-LOCATION;VALUE=URI;X-ADDRESS=Sevettijärventie 9080\, Se
 vettijärvi\, 99930\, Finland;X-APPLE-RADIUS=100;X-TITLE=Kolttatalo:geo:69
 .5112406,28.597527600000035
END:VEVENT
BEGIN:VTIMEZONE
TZID:Europe/Helsinki
X-LIC-LOCATION:Europe/Helsinki
BEGIN:STANDARD
DTSTART:20161030T030000
TZOFFSETFROM:+0300
TZOFFSETTO:+0200
TZNAME:EET
END:STANDARD
END:VTIMEZONE
END:VCALENDAR